BEGIN:VCALENDAR
VERSION:2.0
PRODID:spatie/icalendar-generator
DESCRIPTION:Events from New York\, Chess Programs and Equipment | Tri-State
  Chess
X-WR-CALDESC:Events from New York\, Chess Programs and Equipment | Tri-Stat
 e Chess
REFRESH-INTERVAL;VALUE=DURATION:PT1440M
X-PUBLISHED-TTL:PT1440M
BEGIN:VTIMEZONE
TZID:America/New_York
BEGIN:STANDARD
DTSTART:20131103T020000Z
TZOFFSETFROM:-0400
TZOFFSETTO:-0500
END:STANDARD
BEGIN:DAYLIGHT
DTSTART:20140309T020000Z
TZOFFSETFROM:-0500
TZOFFSETTO:-0400
END:DAYLIGHT
END:VTIMEZONE
BEGIN:VTIMEZONE
TZID:UTC
BEGIN:STANDARD
DTSTART:20250725T100435Z
TZOFFSETFROM:+0000
TZOFFSETTO:+0000
END:STANDARD
END:VTIMEZONE
BEGIN:VEVENT
UID:54-58
DTSTAMP:20260421T100435Z
SUMMARY:PS 9 Chess Championship VIII
LOCATION:100 West 84 Street  New York NY 10024
ORGANIZER;CN=mkurtzman:MAILTO:mkurtzman@tristatechess.com
DTSTART;TZID=America/New_York:20131215T000000
DTEND;TZID=America/New_York:20131215T000000
X-ALT-DESC;FMTTYPE=TEXT/HTML:Printable flyer: Click here for printable flye
 r. (PDF) P.S. 9 100 West 84 Street New York\, NY 10024 Between Columbus an
 d Amsterdam Ave. www.TriStateChess.com (212) 289-5997
CATEGORIES:General
URL;VALUE=URI:https://tristatechess.com/mc-events/ps-9-chess-championship-v
 iii-2/
METHOD:PUBLISH
END:VEVENT
END:VCALENDAR